BEGIN:VCALENDAR
VERSION:2.0
PRODID:-//Alberto Manguel - ECPv6.15.20//NONSGML v1.0//EN
CALSCALE:GREGORIAN
METHOD:PUBLISH
X-WR-CALNAME:Alberto Manguel
X-ORIGINAL-URL:https://www.manguel.de
X-WR-CALDESC:Events for Alberto Manguel
REFRESH-INTERVAL;VALUE=DURATION:PT1H
X-Robots-Tag:noindex
X-PUBLISHED-TTL:PT1H
BEGIN:VTIMEZONE
TZID:Europe/Berlin
BEGIN:DAYLIGHT
TZOFFSETFROM:+0100
TZOFFSETTO:+0200
TZNAME:CEST
DTSTART:20220327T010000
END:DAYLIGHT
BEGIN:STANDARD
TZOFFSETFROM:+0200
TZOFFSETTO:+0100
TZNAME:CET
DTSTART:20221030T010000
END:STANDARD
BEGIN:DAYLIGHT
TZOFFSETFROM:+0100
TZOFFSETTO:+0200
TZNAME:CEST
DTSTART:20230326T010000
END:DAYLIGHT
BEGIN:STANDARD
TZOFFSETFROM:+0200
TZOFFSETTO:+0100
TZNAME:CET
DTSTART:20231029T010000
END:STANDARD
BEGIN:DAYLIGHT
TZOFFSETFROM:+0100
TZOFFSETTO:+0200
TZNAME:CEST
DTSTART:20240331T010000
END:DAYLIGHT
BEGIN:STANDARD
TZOFFSETFROM:+0200
TZOFFSETTO:+0100
TZNAME:CET
DTSTART:20241027T010000
END:STANDARD
END:VTIMEZONE
BEGIN:VEVENT
DTSTART;TZID=Europe/Berlin:20231116T180000
DTEND;TZID=Europe/Berlin:20231116T193000
DTSTAMP:20260423T204016
CREATED:20231023T180646Z
LAST-MODIFIED:20231023T181101Z
UID:2777-1700157600-1700163000@www.manguel.de
SUMMARY:Talk with Javier Cercas
DESCRIPTION:“Les écrivains Alberto Manguel et Javier Cercas ont en commun le plaisir du partage. Pour ces deux complices en littérature — celle qui ignore les frontières\, qui flirte avec tous les genres — la lecture est une rencontre avec soi\, avec l’autre\, avec le monde. Pour l’anniversaire du festival\, Alberto Manguel et Javier Cercas évoqueront vingt ans de littérature d’ici et d’ailleurs et\, pour notre plus grand plaisir\, feront de leur conversation tout un art.” \nModerator: Caroline Broué \nFrench
URL:https://www.manguel.de/event/talk-with-javier-cercas/
LOCATION:Salle de conférence\, 8 rue de la Vieille Tour\, Bordeaux\, 33000\, France
END:VEVENT
END:VCALENDAR