BEGIN:VCALENDAR
VERSION:2.0
PRODID:-//Alberto Manguel - ECPv6.15.20//NONSGML v1.0//EN
CALSCALE:GREGORIAN
METHOD:PUBLISH
X-ORIGINAL-URL:https://www.manguel.de
X-WR-CALDESC:Events for Alberto Manguel
REFRESH-INTERVAL;VALUE=DURATION:PT1H
X-Robots-Tag:noindex
X-PUBLISHED-TTL:PT1H
BEGIN:VTIMEZONE
TZID:Europe/Berlin
BEGIN:DAYLIGHT
TZOFFSETFROM:+0100
TZOFFSETTO:+0200
TZNAME:CEST
DTSTART:20220327T010000
END:DAYLIGHT
BEGIN:STANDARD
TZOFFSETFROM:+0200
TZOFFSETTO:+0100
TZNAME:CET
DTSTART:20221030T010000
END:STANDARD
BEGIN:DAYLIGHT
TZOFFSETFROM:+0100
TZOFFSETTO:+0200
TZNAME:CEST
DTSTART:20230326T010000
END:DAYLIGHT
BEGIN:STANDARD
TZOFFSETFROM:+0200
TZOFFSETTO:+0100
TZNAME:CET
DTSTART:20231029T010000
END:STANDARD
BEGIN:DAYLIGHT
TZOFFSETFROM:+0100
TZOFFSETTO:+0200
TZNAME:CEST
DTSTART:20240331T010000
END:DAYLIGHT
BEGIN:STANDARD
TZOFFSETFROM:+0200
TZOFFSETTO:+0100
TZNAME:CET
DTSTART:20241027T010000
END:STANDARD
END:VTIMEZONE
BEGIN:VEVENT
DTSTART;TZID=Europe/Berlin:20231119T160000
DTEND;TZID=Europe/Berlin:20231119T160000
DTSTAMP:20260423T204416
CREATED:20231023T182702Z
LAST-MODIFIED:20231023T182702Z
UID:2794-1700409600-1700409600@www.manguel.de
SUMMARY:"On Reading" with Sylvie Hazerboucq
DESCRIPTION:Rencontre croisée avec Eduardo Berti\, animée par Sylvie Hazerboucq\, journaliste littéraire.  \nFrench
URL:https://www.manguel.de/event/on-reading-with-sylvie-hazerboucq/
LOCATION:Centre François Mauriac de Malagar\, Malagar\, Saint-Maixant\, 33490\, France
END:VEVENT
END:VCALENDAR