BEGIN:VCALENDAR
VERSION:2.0
PRODID:-//Alberto Manguel - ECPv6.15.20//NONSGML v1.0//EN
CALSCALE:GREGORIAN
METHOD:PUBLISH
X-WR-CALNAME:Alberto Manguel
X-ORIGINAL-URL:https://www.manguel.de
X-WR-CALDESC:Events for Alberto Manguel
REFRESH-INTERVAL;VALUE=DURATION:PT1H
X-Robots-Tag:noindex
X-PUBLISHED-TTL:PT1H
BEGIN:VTIMEZONE
TZID:Europe/Berlin
BEGIN:DAYLIGHT
TZOFFSETFROM:+0100
TZOFFSETTO:+0200
TZNAME:CEST
DTSTART:20230326T010000
END:DAYLIGHT
BEGIN:STANDARD
TZOFFSETFROM:+0200
TZOFFSETTO:+0100
TZNAME:CET
DTSTART:20231029T010000
END:STANDARD
BEGIN:DAYLIGHT
TZOFFSETFROM:+0100
TZOFFSETTO:+0200
TZNAME:CEST
DTSTART:20240331T010000
END:DAYLIGHT
BEGIN:STANDARD
TZOFFSETFROM:+0200
TZOFFSETTO:+0100
TZNAME:CET
DTSTART:20241027T010000
END:STANDARD
BEGIN:DAYLIGHT
TZOFFSETFROM:+0100
TZOFFSETTO:+0200
TZNAME:CEST
DTSTART:20250330T010000
END:DAYLIGHT
BEGIN:STANDARD
TZOFFSETFROM:+0200
TZOFFSETTO:+0100
TZNAME:CET
DTSTART:20251026T010000
END:STANDARD
END:VTIMEZONE
BEGIN:VEVENT
DTSTART;TZID=Europe/Berlin:20240422T000000
DTEND;TZID=Europe/Berlin:20240424T000000
DTSTAMP:20260421T174715
CREATED:20240113T155514Z
LAST-MODIFIED:20240211T180211Z
UID:2838-1713744000-1713916800@www.manguel.de
SUMMARY:Strasbourg World Book Capital UNESCO 2024
DESCRIPTION:Multiple events from April 22rd through April 24th tba.
URL:https://www.manguel.de/event/strasbourg-world-book-capital-unesco-2024/
LOCATION:Aljezur
END:VEVENT
END:VCALENDAR