BEGIN:VCALENDAR
VERSION:2.0
PRODID:-//Alberto Manguel - ECPv6.15.20//NONSGML v1.0//EN
CALSCALE:GREGORIAN
METHOD:PUBLISH
X-ORIGINAL-URL:https://www.manguel.de
X-WR-CALDESC:Events for Alberto Manguel
REFRESH-INTERVAL;VALUE=DURATION:PT1H
X-Robots-Tag:noindex
X-PUBLISHED-TTL:PT1H
BEGIN:VTIMEZONE
TZID:Europe/Berlin
BEGIN:DAYLIGHT
TZOFFSETFROM:+0100
TZOFFSETTO:+0200
TZNAME:CEST
DTSTART:20230326T010000
END:DAYLIGHT
BEGIN:STANDARD
TZOFFSETFROM:+0200
TZOFFSETTO:+0100
TZNAME:CET
DTSTART:20231029T010000
END:STANDARD
BEGIN:DAYLIGHT
TZOFFSETFROM:+0100
TZOFFSETTO:+0200
TZNAME:CEST
DTSTART:20240331T010000
END:DAYLIGHT
BEGIN:STANDARD
TZOFFSETFROM:+0200
TZOFFSETTO:+0100
TZNAME:CET
DTSTART:20241027T010000
END:STANDARD
BEGIN:DAYLIGHT
TZOFFSETFROM:+0100
TZOFFSETTO:+0200
TZNAME:CEST
DTSTART:20250330T010000
END:DAYLIGHT
BEGIN:STANDARD
TZOFFSETFROM:+0200
TZOFFSETTO:+0100
TZNAME:CET
DTSTART:20251026T010000
END:STANDARD
END:VTIMEZONE
BEGIN:VEVENT
DTSTART;TZID=Europe/Berlin:20240513T103000
DTEND;TZID=Europe/Berlin:20240513T103000
DTSTAMP:20260421T161357
CREATED:20240507T175702Z
LAST-MODIFIED:20240507T175702Z
UID:2896-1715596200-1715596200@www.manguel.de
SUMMARY:Public conversation
DESCRIPTION:Italian
URL:https://www.manguel.de/event/public-conversation/
LOCATION:Catholic University of the Sacred Heart\, Largo Fra Agostino Gemelli\, 1\, Milano\, 20123\, Italy
END:VEVENT
BEGIN:VEVENT
DTSTART;TZID=Europe/Berlin:20240513T190000
DTEND;TZID=Europe/Berlin:20240513T190000
DTSTAMP:20260421T161357
CREATED:20240507T180424Z
LAST-MODIFIED:20240507T180424Z
UID:2899-1715626800-1715626800@www.manguel.de
SUMMARY:Public conversation with Giacomo Papi and Ludovica Lugli
DESCRIPTION:Public conversation with Giacomo Papi\, director of the Formentini Laboratories for the editorial department\, and Ludovica Lugli\, editor of the “Post”. \nOrganized in collaboration with the Fondazione Arnoldo e Alberto Mondadori and the Laboratorio Formentini per l’editoria. \n«Possiamo immaginare un futuro diverso per la storia della lettura? La mia biblioteca ha sempre\, nel tempo\, allargato il mio universo\, e io ho provato a condividerla con i miei lettori attraverso i libri che ho scritto.» Così scrive Alberto Manguel nel libro Una storia della lettura raccontando l’esperienza di Espaço Atlântida\, il centro di lettura internazionale di Lisbona\, creato grazie alla donazione della sua immensa collezione di volumi. Uno spazio ideale\, con i suoi scaffali aperti a ricerche senza limiti\, i suoi ambienti silenziosi per la riflessione individuale e altri per le discussioni pubbliche\, per esercitare la lettura come pratica condivisa e creare comunità. \nItalian
URL:https://www.manguel.de/event/public-conversation-with-giacomo-papi-and-ludovica-lugli/
LOCATION:Laboratorio Formentini\, Via Marco Formentini\, 10\, Milano\, 20121\, Italy
END:VEVENT
END:VCALENDAR