BEGIN:VCALENDAR
VERSION:2.0
PRODID:-//Alberto Manguel - ECPv6.15.20//NONSGML v1.0//EN
CALSCALE:GREGORIAN
METHOD:PUBLISH
X-WR-CALNAME:Alberto Manguel
X-ORIGINAL-URL:https://www.manguel.de
X-WR-CALDESC:Events for Alberto Manguel
REFRESH-INTERVAL;VALUE=DURATION:PT1H
X-Robots-Tag:noindex
X-PUBLISHED-TTL:PT1H
BEGIN:VTIMEZONE
TZID:Europe/Berlin
BEGIN:DAYLIGHT
TZOFFSETFROM:+0100
TZOFFSETTO:+0200
TZNAME:CEST
DTSTART:20230326T010000
END:DAYLIGHT
BEGIN:STANDARD
TZOFFSETFROM:+0200
TZOFFSETTO:+0100
TZNAME:CET
DTSTART:20231029T010000
END:STANDARD
BEGIN:DAYLIGHT
TZOFFSETFROM:+0100
TZOFFSETTO:+0200
TZNAME:CEST
DTSTART:20240331T010000
END:DAYLIGHT
BEGIN:STANDARD
TZOFFSETFROM:+0200
TZOFFSETTO:+0100
TZNAME:CET
DTSTART:20241027T010000
END:STANDARD
BEGIN:DAYLIGHT
TZOFFSETFROM:+0100
TZOFFSETTO:+0200
TZNAME:CEST
DTSTART:20250330T010000
END:DAYLIGHT
BEGIN:STANDARD
TZOFFSETFROM:+0200
TZOFFSETTO:+0100
TZNAME:CET
DTSTART:20251026T010000
END:STANDARD
END:VTIMEZONE
BEGIN:VEVENT
DTSTART;TZID=Europe/Berlin:20240408T000000
DTEND;TZID=Europe/Berlin:20240409T000000
DTSTAMP:20260421T160847
CREATED:20231226T125939Z
LAST-MODIFIED:20240211T171657Z
UID:2831-1712534400-1712620800@www.manguel.de
SUMMARY:Talk: "Homer Today"
DESCRIPTION:Time tba. \nEnglish
URL:https://www.manguel.de/event/talk-a-celebration-of-the-humanities/
LOCATION:Heller Center for Arts & Humanities\, 1250 N. Campus Heights Drive\, Colorado Springs\, CO\, CO 80918\, United States
END:VEVENT
BEGIN:VEVENT
DTSTART;TZID=Europe/Berlin:20240419T190000
DTEND;TZID=Europe/Berlin:20240419T190000
DTSTAMP:20260421T160847
CREATED:20240211T172132Z
LAST-MODIFIED:20240211T172132Z
UID:2849-1713553200-1713553200@www.manguel.de
SUMMARY:Talk: "Kafka y la imonincia de una revelación"
DESCRIPTION:Ciclo “El siglo de Kafka” \nSpanish
URL:https://www.manguel.de/event/talk-kafka-y-la-imonincia-de-una-revelacion/
LOCATION:Residencia de Estudiantes\, C. del Pinar\, 21-23\, Madrid\, Chamartín\, 28006\, Spain
END:VEVENT
BEGIN:VEVENT
DTSTART;TZID=Europe/Berlin:20240422T000000
DTEND;TZID=Europe/Berlin:20240424T000000
DTSTAMP:20260421T160847
CREATED:20240113T155514Z
LAST-MODIFIED:20240211T180211Z
UID:2838-1713744000-1713916800@www.manguel.de
SUMMARY:Strasbourg World Book Capital UNESCO 2024
DESCRIPTION:Multiple events from April 22rd through April 24th tba.
URL:https://www.manguel.de/event/strasbourg-world-book-capital-unesco-2024/
LOCATION:Aljezur
END:VEVENT
BEGIN:VEVENT
DTSTART;TZID=Europe/Berlin:20240423T000000
DTEND;TZID=Europe/Berlin:20240423T000000
DTSTAMP:20260421T160847
CREATED:20240211T173438Z
LAST-MODIFIED:20240211T173438Z
UID:2852-1713830400-1713830400@www.manguel.de
SUMMARY:Official launch of Strasbourg as World Book Capital
DESCRIPTION:Morning\nInaugural talk: “La ville-livre”\nIn the presence of the French Minister of Culture and the Director of UNESCO\nFrench\n \nAfternoon\nDialogue with François Wolferman\nFrench \nLate Afternoon\nOfficial launch of “Grande lecture de Strasbourg”\nReadings at the foot of the Strasbourg Cathedral \n 
URL:https://www.manguel.de/event/official-launch-of-strasbourg-as-world-book-capital/
LOCATION:Aljezur
END:VEVENT
END:VCALENDAR